BEGIN:VCALENDAR
VERSION:2.0
PRODID:-//Family Enterprise Canada Events - ECPv5.14.1//NONSGML v1.0//EN
CALSCALE:GREGORIAN
METHOD:PUBLISH
X-WR-CALNAME:Family Enterprise Canada Events
X-ORIGINAL-URL:https://events.familyenterprise.ca
X-WR-CALDESC:Events for Family Enterprise Canada Events
BEGIN:VTIMEZONE
TZID:America/Toronto
BEGIN:DAYLIGHT
TZOFFSETFROM:-0500
TZOFFSETTO:-0400
TZNAME:EDT
DTSTART:20210314T070000
END:DAYLIGHT
BEGIN:STANDARD
TZOFFSETFROM:-0400
TZOFFSETTO:-0500
TZNAME:EST
DTSTART:20211107T060000
END:STANDARD
END:VTIMEZONE
BEGIN:VEVENT
DTSTART;TZID=America/Toronto:20210914T140000
DTEND;TZID=America/Toronto:20210914T150000
DTSTAMP:20260425T221310
CREATED:20200903T121741Z
LAST-MODIFIED:20210824T184532Z
UID:20866-1631628000-1631631600@events.familyenterprise.ca
SUMMARY:2021 Annual General Meeting
DESCRIPTION:Join us for the 2021 Annual General Meeting (AGM). All members in good standing are encouraged to attend. You are required to register in advance in order to participate. \n\n\n	Event Details\n	\n\n	When\n	\n	Tuesday\, Sepetember 14\, 2021 \n2:00 PM – 3:00 PM EDT \n\n	Where\n	\n	Online via Zoom \n\n	Voting\n	\n	Only members in good standing on the 31st day of July 2021\, are entitled to vote through submission of the Member Voting and Proxy Form. Each Family Enterprise Canada Membership is entitled to one (1) vote. In the case of a Family Membership\, there is one (1) vote per family\, notwithstanding the fact that additional family members may participate in the Meeting. \nPlease submit the form\, whether you intend to participate at the AGM or not\, by email to AGM@FamilyEnterprise.ca. To be effective\, the Member Voting and Proxy Form must be received by us no later than 2:00 pm (EDT) on Friday\, September 10\, 2021. \n	\n					Register now
URL:https://events.familyenterprise.ca/event/annual-general-meeting-2021/
CATEGORIES:All members
END:VEVENT
END:VCALENDAR