BEGIN:VCALENDAR
VERSION:2.0
PRODID:-//Family Enterprise Canada Events - ECPv5.14.1//NONSGML v1.0//EN
CALSCALE:GREGORIAN
METHOD:PUBLISH
X-WR-CALNAME:Family Enterprise Canada Events
X-ORIGINAL-URL:https://events.familyenterprise.ca
X-WR-CALDESC:Events for Family Enterprise Canada Events
BEGIN:VTIMEZONE
TZID:America/Toronto
BEGIN:DAYLIGHT
TZOFFSETFROM:-0500
TZOFFSETTO:-0400
TZNAME:EDT
DTSTART:20260308T070000
END:DAYLIGHT
BEGIN:STANDARD
TZOFFSETFROM:-0400
TZOFFSETTO:-0500
TZNAME:EST
DTSTART:20261101T060000
END:STANDARD
END:VTIMEZONE
BEGIN:VEVENT
DTSTART;TZID=America/Toronto:20260114T130000
DTEND;TZID=America/Toronto:20260114T140000
DTSTAMP:20260425T220840
CREATED:20250929T194916Z
LAST-MODIFIED:20250929T194916Z
UID:717991-1768395600-1768399200@events.familyenterprise.ca
SUMMARY:Next Level Leadership: How to Adapt\, Lead and Succeed Amidst Uncertainty
DESCRIPTION:Open to All Members \nUncertainty either paralyzes or creates opportunity\, and only those with the right leadership skills can seize it. Mastering strategic thinking and adaptability turns unpredictability into a powerful catalyst for success. The world isn’t waiting for leaders to catch up. Political and economic instability is shaking North America – a chaotic U.S. political scene\, trade wars and the significant impact on Canadian businesses. The old playbook no longer works. In turbulent times\, the ability to think strategically and navigate the unknown isn’t just an advantage; it’s essential. \nJoin us for this game-changing webinar with Kelly Gillis\, Family Enterprise Advisor\, and Vice President and Partner of Ahria Consulting. Kelly will introduce the six core skills of Next-Level Leadership\, the must-have toolkit for navigating today’s chaos and leading with confidence into the future. \nWhy you need to be there: \n\nBalance short-term pressures with long-term vision\nMake agile\, high-impact decisions under uncertainty\nManage risk while building resilience in your team\nTurn volatility into opportunity\n\nThis isn’t just another leadership talk\, it’s a blueprint for thriving in disruption. Learn how to anticipate threats\, pivot with purpose and transform unpredictability into momentum. The choice is simple: lead differently or fall behind! \n\n	Event Details\n	\n\n	When\n	\n	Wednesday\, January 14\, 20261:00 PM - 2:00 PM EST () \n\n	Who Can Attend\n	\n	This event is open to all FEC Members. \n\n	Where\n	\n	Online via Zoom.\nThe session link will be emailed to registrants prior to the event.\n\n	Contact\n	\n	If you need assistance with registration\, please contact us at events@familyenterprise.ca \n	   Register now\n\n	Presenter\n	\n														\n\n	Kelly Gillis\, FEA\, CPC\, MBA\, MAFamily Enterprise Advisor\, and Vice President and Partner at Ahria Consulting\n	\n	Kelly is an accomplished executive coach\, recognized for her strategic mindset and servant leadership style. She empowers leaders to navigate organizational complexities\, drive transformational change\, and align vision and values with evidence-based decision making. Through her coaching\, Kelly helps clients recognize their unique strengths\, set meaningful goals\, and implement strategies that foster personal and professional growth\, collaboration and sustained results. \nWith over six years as co-owner and Vice President of Ahria Consulting\, and a distinguished career in senior healthcare roles\, Kelly brings practical experience and critical analysis to all her engagements. She excels at guiding individuals and teams through change\, overcoming obstacles and building effective partnerships. Her commitment to individual and organizational success positions her as a trusted advisor\, equipping leaders to adapt\, innovate and thrive in dynamic environments. \nLearn more about Kelly and Ahria Consulting at Ahria.ca.
URL:https://events.familyenterprise.ca/event/community-event-jan14/
CATEGORIES:All members,Community Call,Family,FEA,NextGen,P.A.G,Progressive Experience
END:VEVENT
END:VCALENDAR