BEGIN:VCALENDAR
VERSION:2.0
PRODID:-//Family Enterprise Canada Events - ECPv5.14.1//NONSGML v1.0//EN
CALSCALE:GREGORIAN
METHOD:PUBLISH
X-WR-CALNAME:Family Enterprise Canada Events
X-ORIGINAL-URL:https://events.familyenterprise.ca
X-WR-CALDESC:Events for Family Enterprise Canada Events
BEGIN:VTIMEZONE
TZID:America/Toronto
BEGIN:DAYLIGHT
TZOFFSETFROM:-0500
TZOFFSETTO:-0400
TZNAME:EDT
DTSTART:20260308T070000
END:DAYLIGHT
BEGIN:STANDARD
TZOFFSETFROM:-0400
TZOFFSETTO:-0500
TZNAME:EST
DTSTART:20261101T060000
END:STANDARD
END:VTIMEZONE
BEGIN:VEVENT
DTSTART;TZID=America/Toronto:20260326T170000
DTEND;TZID=America/Toronto:20260326T200000
DTSTAMP:20260424T100621
CREATED:20251210T161918Z
LAST-MODIFIED:20260123T184428Z
UID:718191-1774544400-1774555200@events.familyenterprise.ca
SUMMARY:Kinnect Montréal: Switching Seats Inside the Family Enterprise Drama
DESCRIPTION:Open to All Members – Come Walk a Mile in Someone Else’s Family Business Shoes! \nFamily Enterprise Canada invites Members and guests to this high-energy\, interactive workshop featuring Anna Giampà-Fiorilli and Steve Legler\, where you’ll ‘change hats’ and step into someone else’s role within the family enterprise system. Each attendee will be assigned to a table\, given a character and plunged into a scenario that brings the unpredictability\, tension\, opportunity and nuance of real-life family business dynamics to life. \nWith a mix of Family Enterprise Canada’s Family Members and FEAs at every table\, you’ll gain fresh insight into how decisions land\, how conflicts escalate or ease\, and how roles shape what we see-and what we miss. \nWorking in small groups\, you’ll explore a shared question. The goal will not be to “find the right answer\,” but to see the issue through many different eyes and perspectives. Experienced FEAs will guide the role-play and then lead a powerful debrief\, helping the whole group draw out practical lessons\, surprising insights and new ways of understanding each other in the family enterprise. \nPlease note: This is a relationship-building event focused on peer connections and learning. No solicitation or selling of services is permitted\, particularly for any advisors attending the event. \n\n	Event Details\n	\n\n	When\n	\n	Thursday\, March 26\, 20265:00 PM - 8:00 PM EDT () \n\n	Who Can Attend\n	\n	This event is open to all members of Family Enterprise Canada (this includes designated FEAs and FEA Candidates). \n\n	Where\n	\n	The Manulife Building (map it)\n900 boul de Maisonneuve W. (23rd Floor)\nMontreal\, Quebec\nCanada\, H3A 2Y7\n\n	Contact\n	\n	For help with registration\,\nemail events@familyenterprise.ca\n\n	Cost\n	\n	$25 + tax \n	   Register now\n\n	Facilitators\n	\n														\n\n	Steve Legler\, MBA\, FEA\, CPCCFamily Legacy Coach\, Author and Podcast Host\n	\n	Steve is an independent Family Legacy Coach based in Montreal. He grew up in a business family\, destined to take over the company his father had founded before he was born. After an unexpected liquidity event that occurred while he was still in his 20’s\, he ended up managing their family office instead. In 2013\, Steve stumbled upon the Family Enterprise Advisor (FEA) Program\, which turned into a career-changing calling for him. He now works with family clients as a facilitator\, and sometimes as a mediator. He also does individual coaching with family members from every generation. \nSteve is the author of SHIFT Your Family Business: STOP Working IN Your Family Business\, Start Working ON Your Business Family and Interdependent Wealth: How Family Systems Theory Illuminates Successful Intergenerational Wealth Transitions. He is a member of the faculty of the Family Firm Institute’s Global Education Network Program (FFI-GEN)\, leader of the Wisdom Expedition for the Purposeful Planning Institute and is one of the hosts of Family Enterprise Canada’s “Let’s Talk Family Enterprise” podcast. \nConnect with Steve → \n														\n\n	Anna Giampà-Fiorilli\,  MBA\, FEAFamily Enterprise Advisor\, Strategy & Communications Consultant and Entrepreneurship Coach\n	\n	Anna Giampà-Fiorilli is a certified Family Enterprise Advisor (FEA) with a passion for helping enterprising families build their legacy.\nAnna benefits from over 20 years of consulting experience working with entrepreneurs and organizational leaders in the areas of business planning\, communications and strategy. Furthermore\, after growing up in and around family businesses throughout her life\, Anna was involved in launching and managing several ventures where she leveraged and nurtured her strong customer focus. Anna currently co-manages her family real estate portfolio which includes commercial real estate asset management as well as construction and development projects.\nAnna also worked in the not-for-profit sector and in academia\, serving as Executive Director of the largest philanthropic organization in Montreal’s Italian community for over 8 years\, and as Lecturer/Professional Adjunct in the areas of Strategy\, Entrepreneurship\, and Negotiation within Concordia University’s Management Department (John Molson School of Business) for over 15 years. \nAnna holds an MBA in Strategy and Entrepreneurship from Concordia University’s John Molson School of Business\, a Graduate Diploma in Journalism from Concordia University and a Bachelor of Science in Anatomy and Cell Biology – with a Double-Minor in Management and Italian Studies – from McGill University. \nConnect with Anna →
URL:https://events.familyenterprise.ca/event/community-event-mar26/
CATEGORIES:All members,Family,FEA,NextGen,P.A.G,Progressive Experience
END:VEVENT
END:VCALENDAR