BEGIN:VCALENDAR
VERSION:2.0
PRODID:-//Family Enterprise Canada Events - ECPv5.14.1//NONSGML v1.0//EN
CALSCALE:GREGORIAN
METHOD:PUBLISH
X-WR-CALNAME:Family Enterprise Canada Events
X-ORIGINAL-URL:https://events.familyenterprise.ca
X-WR-CALDESC:Events for Family Enterprise Canada Events
BEGIN:VTIMEZONE
TZID:America/Toronto
BEGIN:DAYLIGHT
TZOFFSETFROM:-0500
TZOFFSETTO:-0400
TZNAME:EDT
DTSTART:20250309T070000
END:DAYLIGHT
BEGIN:STANDARD
TZOFFSETFROM:-0400
TZOFFSETTO:-0500
TZNAME:EST
DTSTART:20251102T060000
END:STANDARD
END:VTIMEZONE
BEGIN:VEVENT
DTSTART;TZID=America/Toronto:20251007T130000
DTEND;TZID=America/Toronto:20251007T140000
DTSTAMP:20260425T234435
CREATED:20250505T133808Z
LAST-MODIFIED:20250505T134135Z
UID:717815-1759842000-1759845600@events.familyenterprise.ca
SUMMARY:The Most Common Challenges to Exiting Business Owners and Professionals
DESCRIPTION:Open to All Members – This session features Susan Latremoille\, Co-founder of Next Chapter Lifestyle Advisors\, who will explore not only the challenges business owners face when exiting a business\, but also how the professionals who support them can help and offer more effective solutions. Register today to join us for this informative session! \n\n	Event Details\n	\n\n	When\n	\n	Tuesday\, October 7\, 20251:00 PM - 2:00 PM EDT () \n\n	Who Can Attend\n	\n	This event is open to all FEC Members. \n\n	Where\n	\n	Online via Zoom.\nThe session link will be emailed to registrants prior to the event.\n\n	Contact\n	\n	If you need assistance with registration\, please contact us at events@familyenterprise.ca \n	   Register now\n\n	Presenter\n	\n														\n\n	Susan Latremoille\, CPRC\, CEPA\, FEA\, ICD.D\, MBACo-Founder and Partner\, Next Chapter Lifestyle Advisors\n	\n	Susan Latremoille is a transformative force in the financial advisory realm\, empowering advisors and their firms to elevate client experiences\, stand out in a competitive landscape and cultivate new business opportunities by seamlessly integrating retirement lifestyle planning into their financial strategies. \nWith an illustrious 38-year tenure as a top-performing financial advisor at industry-leading institutions such as Merrill Lynch\, RBC and Richardson Wealth\, Susan brings unparalleled expertise and insight to her work. Her extensive experience has honed her ability to navigate the complexities of wealth management with finesse and foresight. \nSusan’s dedication to professional development is exemplified by her impressive array of designations\, including the ICD.D (Institute of Corporate Directors)\, FEA (Family Enterprise Advisor)\, and CPRC (Certified Professional Retirement Coach)\, alongside her executive MBA. These credentials underscore her commitment to mastering her craft and staying at the forefront of industry trends. \nA prolific author\, Susan has penned several acclaimed books\, including her latest publication\, 9 Steps to a Rich Life Retirement: Live Well\, Give Back\, Leave a Legacy. Her literary contributions serve as guiding beacons for advisors and clients alike\, offering actionable insights and strategies for achieving financial well-being and legacy preservation. \nSusan’s influence extends beyond the written word\, as evidenced by her exemplary leadership within the wealth management sector and her role as a board member of Richardson Financial Group\, where she was honored with the prestigious Hummingbird Award. This recognition speaks volumes about her impact and dedication to excellence. \nAs a sought-after speaker\, Susan captivates audiences with her wealth of knowledge\, delivering compelling presentations at esteemed events. Her ability to connect with audiences on a personal level stems from her firsthand experience navigating the challenges and opportunities inherent in financial advisory roles. Susan’s insights have garnered widespread acclaim\, earning her media features and interviews with prominent publications and podcasts. Through these platforms\, she continues to share her expertise and empower advisors to thrive in an ever-evolving industry landscape. \nIn essence\, Susan Latremoille embodies the epitome of excellence in financial advisory\, seamlessly blending practical wisdom\, academic rigor and a genuine passion for helping others achieve their retirement goals. \nLearn more about Susan and Next Chapter Lifestyle Advisors at NextChapterLifestyleAdvisors.com. \n	   Register now
URL:https://events.familyenterprise.ca/event/community-event-oct7/
CATEGORIES:All members,Community Call,Family,FEA
END:VEVENT
END:VCALENDAR