BEGIN:VCALENDAR
VERSION:2.0
PRODID:-//Family Enterprise Canada Events - ECPv5.14.1//NONSGML v1.0//EN
CALSCALE:GREGORIAN
METHOD:PUBLISH
X-WR-CALNAME:Family Enterprise Canada Events
X-ORIGINAL-URL:https://events.familyenterprise.ca
X-WR-CALDESC:Events for Family Enterprise Canada Events
BEGIN:VTIMEZONE
TZID:America/Vancouver
BEGIN:DAYLIGHT
TZOFFSETFROM:-0800
TZOFFSETTO:-0700
TZNAME:PDT
DTSTART:20240310T100000
END:DAYLIGHT
BEGIN:STANDARD
TZOFFSETFROM:-0700
TZOFFSETTO:-0800
TZNAME:PST
DTSTART:20241103T090000
END:STANDARD
END:VTIMEZONE
BEGIN:VEVENT
DTSTART;TZID=America/Vancouver:20240304T130000
DTEND;TZID=America/Vancouver:20240304T170000
DTSTAMP:20260423T131056
CREATED:20240212T203204Z
LAST-MODIFIED:20240223T210228Z
UID:716534-1709557200-1709571600@events.familyenterprise.ca
SUMMARY:Navigating Family Ownership - Family Workshop Vancouver
DESCRIPTION:Please join us at the Navigating Family Ownership Workshop\, specifically designed for current and future family business owners. \nFamily ownership has proven to be the pillar of family businesses around the world. However\, understanding the roles each family member plays in successful ownership requires in-depth knowledge of what ownership means\, how decision-making processes are made and\, mostly\, how to approach different ownership models. \nWe are excited to welcome Tim Yeung (FEA)\, Advisor\, Lansberg Gersick Advisors\, who will facilitate this workshop and cover the basics of Discovering Family Ownership. He will show you how to make the best use of this interactive learning experience with your family. \n	This event is open to members of a Family Business. \n	   Register now\n\n	Event Details\n	\n\n	When\n	\n	Monday\, March 4\, 20241:00 PM - 5:00 PM PST () \n\n	Where\n	\n	UBC Robson Square\n800 Robson Street | Vancouver BC | V6Z 3B7\n\n	Contact\n	\n	Mia Markovic\nmmarkovic@familyenterprise.ca\n\n	Host\n	\n														\n\n	Tim Yeung\, FEA Advisor\, Lansberg Gersick Advisors\n	\n	Tim Yeung worked for his family’s successful commercial real estate business for ten years (Peterson) prior to transitioning to his current role as a Family Enterprise Advisor. With a deep knowledge of the dynamics and governance structures of family enterprise\, Tim is able to leverage his strong business background with his passion for families and their stories to help them flourish. There are both joys and challenges in being a part of a family business and it is Tim’s goal to help each family succeed by instilling hope for each member to realize their dreams as they navigate being a family member within the gravity of a successful family enterprise. \n	This event is open to members of a Family Business. \n	   Register now
URL:https://events.familyenterprise.ca/event/discovering-family-ownership-workshop-van/
CATEGORIES:Family
END:VEVENT
END:VCALENDAR