BEGIN:VCALENDAR
VERSION:2.0
PRODID:-//Family Enterprise Canada Events - ECPv5.14.1//NONSGML v1.0//EN
CALSCALE:GREGORIAN
METHOD:PUBLISH
X-WR-CALNAME:Family Enterprise Canada Events
X-ORIGINAL-URL:https://events.familyenterprise.ca
X-WR-CALDESC:Events for Family Enterprise Canada Events
BEGIN:VTIMEZONE
TZID:America/Toronto
BEGIN:DAYLIGHT
TZOFFSETFROM:-0500
TZOFFSETTO:-0400
TZNAME:EDT
DTSTART:20210314T070000
END:DAYLIGHT
BEGIN:STANDARD
TZOFFSETFROM:-0400
TZOFFSETTO:-0500
TZNAME:EST
DTSTART:20211107T060000
END:STANDARD
END:VTIMEZONE
BEGIN:VEVENT
DTSTART;TZID=America/Toronto:20210218T130000
DTEND;TZID=America/Toronto:20210218T140000
DTSTAMP:20260424T101029
CREATED:20201012T133124Z
LAST-MODIFIED:20210202T211743Z
UID:21102-1613653200-1613656800@events.familyenterprise.ca
SUMMARY:FEA – Community Call: RESILIENCE 2.0 How can we help our clients be more resilient?
DESCRIPTION:Join host FEAs Claire Sutton and Grant Conroy to learn how you can help your clients be more resilient. \nCome prepared for this open\, facilitated conversation amongst your peers: \nPlease watch this 3-minute music video here and please read the following article: \nBuilding Your Resilience\, American Psychological Association. \nIf you wish to learn more about this topic\, we recommend this additional reading: \nResilience\, Psychology Today \nWhy embracing the Nordic concept of ‘friluftsliv’ could be the secret to better mental health during lockdown 3.0\, Stylist \nDon’t miss this opportunity to connect\, share and learn – register today! \n	   Register now\n\n	Event Details\n	\n\n	When\n	\n	Thursday\, February 18\, 20211:00 PM - 2:00 PM EST () \n\n	Contact\n	\n	Dawn Ainikkal \ndainikkal@familyenterprise.ca \n\n	Where\n	\n	Online via Zoom. A Zoom meeting link will be emailed to registrants prior to the event. \n\n	CE Credit\n	\n	FEAs who attend this event will receive 1 continuing education credit toward their FEA designation annual requirement. \n\n	Who Can Attend\n	\n	This call is for FEAs by FEAs. \n\n	Interested in Hosting?\n	\n	If you are an FEA designate in good standing and would like to host a FEA Community Call\, please complete the Host Application Form here. \n\n		Hosts\n	\n														\n	Claire Sutton\, M.A.\, RCC\, CEAP\, FEA  \nClaire Sutton is a seasoned solution-focused therapist\, life coach and workplace consultant. She has an expertise in family dynamics and navigating life transitions. As a consultant in human behavior in the workplace\, Claire is often called upon to help workplaces deal with troubled employees\, conflict\, and critical incidents. Many of Claire’s private clients are professionals\, entrepreneurs and members of family enterprises. It was this realization that led Claire to pursue her FEA in 2017-18. Over the last few years\, Claire has enjoyed both the breath and depth of experience when working and consulting with other FEAs. Also\, Claire is a skilled facilitator and delivers a variety of workshops to businesses and organizations around the Vancouver area. Claire has two grown sons\, is a life long learner and an avid golfer.\nwww.clairesutton.com\n														\n	Grant Conroy\, FEA \nAs a Portfolio Manager\, Grant works with institutions\, individuals\, and families. He has a long history of trying to be a step ahead of the markets having started his career in 1996 with some of the World’s largest asset managers as his clients. As he continues this market journey\, he now seeks to add value on a more personal basis as well. Having had an ‘Aha’ moment during the FEA program\, he has an increased focus on the complexities that can come with family wealth\, from how to prepare and educate the next generation\, communicating legacy intentions\, to protecting family unity. His values include equality\, learning and being congruent. Outside of work he is chief “dad joke” teller in his household and serves on two not-for-profit boards.
URL:https://events.familyenterprise.ca/event/fea-community-call-feb2021/
CATEGORIES:FEA
END:VEVENT
END:VCALENDAR