BEGIN:VCALENDAR
VERSION:2.0
PRODID:-//Family Enterprise Canada Events - ECPv5.14.1//NONSGML v1.0//EN
CALSCALE:GREGORIAN
METHOD:PUBLISH
X-WR-CALNAME:Family Enterprise Canada Events
X-ORIGINAL-URL:https://events.familyenterprise.ca
X-WR-CALDESC:Events for Family Enterprise Canada Events
BEGIN:VTIMEZONE
TZID:America/Toronto
BEGIN:DAYLIGHT
TZOFFSETFROM:-0500
TZOFFSETTO:-0400
TZNAME:EDT
DTSTART:20200308T070000
END:DAYLIGHT
BEGIN:STANDARD
TZOFFSETFROM:-0400
TZOFFSETTO:-0500
TZNAME:EST
DTSTART:20201101T060000
END:STANDARD
END:VTIMEZONE
BEGIN:VEVENT
DTSTART;TZID=America/Toronto:20200723T130000
DTEND;TZID=America/Toronto:20200723T140000
DTSTAMP:20260424T081845
CREATED:20200622T183104Z
LAST-MODIFIED:20201013T202149Z
UID:20360-1595509200-1595512800@events.familyenterprise.ca
SUMMARY:FEA Community Call: Adapting to a Virtual World with our Family Enterprise Clients
DESCRIPTION:Join us for the first FEA Community Call. For FEAs by FEAs. Online via Zoom. \nThis month’s hosts Steve Legler\, FEA and Ruth Steverlynck\, FEA. \nWHAT is the PURPOSE? \nTo enrich our FEA Community through: \n\nConnection: Peer Conversations\nOpen discussions: on tough questions in a safe space\nSharing of resources: so\, we can all get better together\nPractice development: bridging the gap between completion of your designation and integrating learning to your own practice\nLearning: learning from the wisdom of each other. \n\nWhat is the FORMAT? \nEach call will feature a thought provoking question that will be asked by the host(s) based on an FEA related topic\, article\, podcast or webinar that will be referenced for prereading/watching with the sole purpose of stimulating a vibrant discussion amongst peers. \nThe first 10 – 15 minutes the host(s) will set the context and/or frame the question. The rest of the time will be open facilitated discussion and conversation. \nThe topic and host(s) will change each month. (We’re encouraging co-facilitated calls.) \nA short evaluation will be sent out after each call that will include a request for topics of interest to FEAs and a call for FEAs wishing to host. \nInterested in HOSTING? \nFind out what you need to know to host an FEA Community Call here: \nFEA Community Calls Host Information \nIf you are an FEA designate in good standing and would like to host a FEA Community Call\, please complete the Host Application Form here. \nFuture FEA Community Calls will occur on the third Thursday of every month at 1:00 pm EDT. Save the date for the next FEA Community Call on August 20\, 2020. \n Register  \nEvent Details\nWhen\nThursday\, July 23\, 2020 \n1:00 PM – 2:00 PM EDT \n2:00 PM ADT/ 12:00 PM CDT/ 11:00 AM MDT/ 10:00 AM  PDT \nContact\nDawn Ainikkal \ndainikkal@familyenterprise.ca \nWhere\nOnline via Zoom. A Zoom meeting link will be emailed to registrants prior to the event. \nCE Credits for FEAs\nFEAs who attend this event will receive 1 continuing education credit toward their FEA designation annual requirement. \nHosts\nSteve Legler\, MBA\, CPCC\, FEA\n \nSteve Legler is a Family Legacy Advisor based in Montreal\, Canada.  He grew up in a business family\, destined to take over the company his father had founded before he was born.  After an unexpected liquidity event that occurred while he was still in his 20’s\, he ended up managing their family office instead.  He also married into a business family\, where he has witnessed a number of other complex issues. \nIn 2013 he stumbled upon the Family Enterprise Advisor (FEA) program in Canada\, which turned in to career-changing calling for him.  Since then\, he has been working with other business families as they face the challenges surrounding their intergenerational transitions. \nHe works with family clients as a facilitator\, and sometimes as a mediator. He also does individual coaching with family members. He recognizes how complex the world of family wealth transitions can be\, and prides himself on knowing how to be a great resource for his clients. \nHe is the author of SHIFT your Family Business (2014) and Interdependent Wealth: How Family Systems Theory Illuminates Successful Intergenerational Wealth Transitions (2019) \nHe is active in many associations for professionals who work with families; a member of the FEA Council of the Family Enterprise eXchange (FEX); a member of the Wisdom Expedition of the Purposeful Planning Institute (PPI); and a member of the faculty of the Family Firm Institute (FFI) global education network (GEN) program. \nRuth Steverlynck\, LL B (hons)\, FEA\n \nRuth Steverlynck is a founding partner and Principal with Your Family Enterprise Advisors Inc. She specializes in helping families build the capacity to transition their wealth in a purposeful and meaningful way. Her great passion is working with families to help navigate this complexity – planning for the human/relational aspects of wealth transition\, fostering positive communication\, managing upsets and developing key competencies needed to realise aspirations.
URL:https://events.familyenterprise.ca/event/fea-community-calls-13/
CATEGORIES:FEA
END:VEVENT
END:VCALENDAR