BEGIN:VCALENDAR
VERSION:2.0
PRODID:-//Family Enterprise Canada Events - ECPv5.14.1//NONSGML v1.0//EN
CALSCALE:GREGORIAN
METHOD:PUBLISH
X-WR-CALNAME:Family Enterprise Canada Events
X-ORIGINAL-URL:https://events.familyenterprise.ca
X-WR-CALDESC:Events for Family Enterprise Canada Events
BEGIN:VTIMEZONE
TZID:America/Toronto
BEGIN:DAYLIGHT
TZOFFSETFROM:-0500
TZOFFSETTO:-0400
TZNAME:EDT
DTSTART:20200308T070000
END:DAYLIGHT
BEGIN:STANDARD
TZOFFSETFROM:-0400
TZOFFSETTO:-0500
TZNAME:EST
DTSTART:20201101T060000
END:STANDARD
END:VTIMEZONE
BEGIN:VEVENT
DTSTART;TZID=America/Toronto:20200430T190000
DTEND;TZID=America/Toronto:20200430T190000
DTSTAMP:20260425T234655
CREATED:20200415T043104Z
LAST-MODIFIED:20200629T124205Z
UID:19992-1588273200-1588273200@events.familyenterprise.ca
SUMMARY:FEC National Next Generation Meet-Up
DESCRIPTION:Join us online for a casual chat with other Next Gen members about what’s happening with your family and family enterprise during this unprecedented time.
URL:https://events.familyenterprise.ca/event/fex-national-next-generation-meet-up/
CATEGORIES:Family
END:VEVENT
END:VCALENDAR