BEGIN:VCALENDAR
VERSION:2.0
PRODID:-//Family Enterprise Canada Events - ECPv5.14.1//NONSGML v1.0//EN
CALSCALE:GREGORIAN
METHOD:PUBLISH
X-WR-CALNAME:Family Enterprise Canada Events
X-ORIGINAL-URL:https://events.familyenterprise.ca
X-WR-CALDESC:Events for Family Enterprise Canada Events
BEGIN:VTIMEZONE
TZID:America/Toronto
BEGIN:DAYLIGHT
TZOFFSETFROM:-0500
TZOFFSETTO:-0400
TZNAME:EDT
DTSTART:20200308T070000
END:DAYLIGHT
BEGIN:STANDARD
TZOFFSETFROM:-0400
TZOFFSETTO:-0500
TZNAME:EST
DTSTART:20201101T060000
END:STANDARD
END:VTIMEZONE
BEGIN:VEVENT
DTSTART;TZID=America/Toronto:20200604T160000
DTEND;TZID=America/Toronto:20200604T173000
DTSTAMP:20260425T235541
CREATED:20200505T223103Z
LAST-MODIFIED:20200629T124204Z
UID:20062-1591286400-1591291800@events.familyenterprise.ca
SUMMARY:National FEC Family Next Generation Knowledge Sharing and Meet Up Session
DESCRIPTION:Our FEC Family Community: Together at Home\n	\n	Enjoy Social Distancing with Distant Socializing! \nJoin us online for a casual chat with other family business members about what’s happening with your family and family enterprise during this unprecedented time.  Your FEC Community is here to support\, encourage and engage.  We’ll take this time together to discuss what’s most important to you\, share your insights and what’s on your mind. \nStay connected\, lean in and we will weather this storm together!! And\, always remember\, YOU are not alone. \n\n	Event Details\n	\n\n	When\n	\n	Thursday June 4\, 2020 \n4:00 PM – 5:30 PM EDT \n\n	Where\n	\n	Online. \nZoom’ in from the Comfort of Your Home \n*Please note the link will be provided to you in advance \n\n	Host(s)\n	\n	FEC Next Gen Members Jennifer Lahey and Derek Johnson \n\n	Contact\n	\n	Alexa Zacs\nazacs@FEXCanada.ca\n	Please Note: This event is only for current FEC Family Members. \n	\n					Register
URL:https://events.familyenterprise.ca/event/ontario-region-fex-family-meet-up-conversation-4/
CATEGORIES:Family,NextGen
END:VEVENT
END:VCALENDAR