BEGIN:VCALENDAR
VERSION:2.0
PRODID:-//Family Enterprise Canada Events - ECPv5.14.1//NONSGML v1.0//EN
CALSCALE:GREGORIAN
METHOD:PUBLISH
X-WR-CALNAME:Family Enterprise Canada Events
X-ORIGINAL-URL:https://events.familyenterprise.ca
X-WR-CALDESC:Events for Family Enterprise Canada Events
BEGIN:VTIMEZONE
TZID:America/Toronto
BEGIN:DAYLIGHT
TZOFFSETFROM:-0500
TZOFFSETTO:-0400
TZNAME:EDT
DTSTART:20250309T070000
END:DAYLIGHT
BEGIN:STANDARD
TZOFFSETFROM:-0400
TZOFFSETTO:-0500
TZNAME:EST
DTSTART:20251102T060000
END:STANDARD
END:VTIMEZONE
BEGIN:VEVENT
DTSTART;TZID=America/Toronto:20250320T110000
DTEND;TZID=America/Toronto:20250320T140000
DTSTAMP:20260426T000434
CREATED:20250123T190610Z
LAST-MODIFIED:20251029T211835Z
UID:717501-1742468400-1742479200@events.familyenterprise.ca
SUMMARY:The Enterprising Family Series
DESCRIPTION:Please note: This event will be available both in person and livestreamed online to our community. \nThe “Enterprising Family” series will explore the intricate balance between family and business\, offering real life examples and practical solutions to the unique challenges faced by enterprising families. Drawing on the expertise of FEC community members\, each session will focus on a specific domain of family enterprise\, fostering rich discussions rather than formal lectures. \n	The Domains of Family Wealth\nThis event will provide an introduction to what it means to be an enterprising family\, addressing the balance between managing family dynamics and growing the business. Dr. Francesco Barbera\, Academic Director of the Family Business Institute at Ted Rogers School\, will be hosting a class on intergenerational dynamics before we enjoy an insightful panel discussion. \nBe sure to join us after the main event for a fun filled St. Patrick’s Day-themed social networking lunch with drinks and snacks! \nAGENDA \n11:00 AM: Registration Opens\n11:30 AM: Dr. Barbera’s Class\n12:00 PM: Panel Discussion\n1:00 PM: Social Networking Lunch\n	CE Credits: FEAs who attend this event will qualify for 1.5 CE credits. \n\n	Event Details\n	\n\n	When\n	\n	Thursday\, March 20\, 202511:00 AM - 2:00 PM EDT () \n\n	Who Can Attend\n	\n	This event is open to FEC Members\, TMU Students and TMU Alumni only. TMU Alumni: Please select “TMU Alumni” as the attendee type when you register. \n\n	Where\n	\n	Toronto Metropolitan University (TMU)\nTed Rogers School of Management\n	– AND – \n	Livestreamed nationally online \n\n	Contact\n	\n	If you need assistance\, please contact us. \n\n	Attending Online?\n	\n	Join us for the optional education class and the main event on our livestream! \n\n	VIRTUAL AGENDA \n11:15 AM: Livestream Starts\n11:30 AM: Dr. Barbera’s Class\n12:00 PM: Panel Discussion\nDon’t forget to select “virtual” when you register! \n	In-person tickets are now SOLD OUT.\nVirtual registration still available!\n	   Register now\n\n	Grateful for Your Help:
URL:https://events.familyenterprise.ca/event/the-enterprising-family-series-p1/
CATEGORIES:All members,Family,FEA,NextGen,P.A.G,Progressive Experience
END:VEVENT
END:VCALENDAR