BEGIN:VCALENDAR
VERSION:2.0
PRODID:-//Family Enterprise Canada Events - ECPv5.14.1//NONSGML v1.0//EN
CALSCALE:GREGORIAN
METHOD:PUBLISH
X-WR-CALNAME:Family Enterprise Canada Events
X-ORIGINAL-URL:https://events.familyenterprise.ca
X-WR-CALDESC:Events for Family Enterprise Canada Events
BEGIN:VTIMEZONE
TZID:America/Toronto
BEGIN:DAYLIGHT
TZOFFSETFROM:-0500
TZOFFSETTO:-0400
TZNAME:EDT
DTSTART:20200308T070000
END:DAYLIGHT
BEGIN:STANDARD
TZOFFSETFROM:-0400
TZOFFSETTO:-0500
TZNAME:EST
DTSTART:20201101T060000
END:STANDARD
END:VTIMEZONE
BEGIN:VEVENT
DTSTART;TZID=America/Toronto:20200528T130000
DTEND;TZID=America/Toronto:20200528T140000
DTSTAMP:20260426T000126
CREATED:20200421T223103Z
LAST-MODIFIED:20200717T125949Z
UID:20027-1590670800-1590674400@events.familyenterprise.ca
SUMMARY:Webinar: Understanding Grief
DESCRIPTION:The current pandemic has given rise to a wave of emotions that many of us have little experience of dealing with and often do not even know what they are.  To help us better understand what me may be feeling and how to manage our feelings  as well as help others\, we are delighted to sit down with Dawn Schooler\, counsellor\, coach\, teacher and FEA who will provide insights on grief: what it is\, how it shows up and offer some strategies for managing it well. \nSuggested pre-reading: That Discomfort You’re Feeling Is Grief by Scott Berinato\, published by Harvard Business Review \nPlease Note: This event is open to the family business community – FEC Members and Non-Members are welcome to attend at no additional cost. FEC Members will also have access to the webinar recording and presentation slides. \n Register  \nFEAs who attend this session will earn 1 continuing education credit toward their annual FEA designation requirement. FEAs must be signed in to their FEC account when registering in order for the credit to be automatically awarded. \nEvent Details\nWhen\nThursday\, May 28\, 20201:00 – 2:00 PM EDT \nWhere\nOnline \nContact\nChris Dohnalcdohnal@familyenterprise.ca \nQuestions?\nSubmit questions to our presenter ahead of our virtual conversation when registering for the event. Questions will be accepted until end of day\, Wednesday\, May 27. \nPresenters\nDawn Schooler\nMasterof Arts in Counselling Psychology\, Registered Clinical Counsellor\, Director of Clinical Services\n \nDawn is the Director of Clinical Services at Jericho Counselling Clinic. She has been working as a counsellor\, coach\, and teacher for more than 25 years\, in addition to many years in management in the non-profit\, social services sector. Since 2007\, Dawn has made Jericho Counselling her solitary career focus and has grown the clinic into a resource that is well known and highly respected around the Lower Mainland. Jericho Counselling is a name known to thousands of people in the community and has come to be trusted as THE place to turn when you are feeling stuck in life and looking for professional\, accountable\, and results oriented counselling services. Dawn has been behind much of the growth and recognition achieved at Jericho Counselling. \nRuth Steverlynck\, LL B (hons)\, FEA\n \nRuth Steverlynck is a founding partner and Principal with Your Family Enterprise Advisors Inc. She specializes in helping families build the capacity to transition their wealth in a purposeful and meaningful way. Her great passion is working with families to help navigate this complexity – planning for the human/relational aspects of wealth transition\, fostering positive communication\, managing upsets and developing key competencies needed to realise aspirations.
URL:https://events.familyenterprise.ca/event/webinar-grief-amid-covid-19/
CATEGORIES:All members,Family,FEA,NextGen,P.A.G,Progressive Experience
ATTACH;FMTTYPE=image/jpeg:https://events.familyenterprise.ca/wp-content/uploads/2020/05/Webinar_Understanding_Grief.jpg
END:VEVENT
END:VCALENDAR