BEGIN:VCALENDAR
VERSION:2.0
PRODID:-//Family Enterprise Canada Events - ECPv5.14.1//NONSGML v1.0//EN
CALSCALE:GREGORIAN
METHOD:PUBLISH
X-WR-CALNAME:Family Enterprise Canada Events
X-ORIGINAL-URL:https://events.familyenterprise.ca
X-WR-CALDESC:Events for Family Enterprise Canada Events
BEGIN:VTIMEZONE
TZID:America/Toronto
BEGIN:DAYLIGHT
TZOFFSETFROM:-0500
TZOFFSETTO:-0400
TZNAME:EDT
DTSTART:20210314T070000
END:DAYLIGHT
BEGIN:STANDARD
TZOFFSETFROM:-0400
TZOFFSETTO:-0500
TZNAME:EST
DTSTART:20211107T060000
END:STANDARD
END:VTIMEZONE
BEGIN:VEVENT
DTSTART;TZID=America/Toronto:20210513T123000
DTEND;TZID=America/Toronto:20210513T133000
DTSTAMP:20260425T234954
CREATED:20210226T190632Z
LAST-MODIFIED:20210315T184040Z
UID:21585-1620909000-1620912600@events.familyenterprise.ca
SUMMARY:Webinar - Own it! How to Develop Family Enterprise Ownership Skills at Every Age
DESCRIPTION:Join Wendy Sage-Hayward in conversation with Gaia Marchisio\, to discuss their new book\, Own it! How to Develop Family Enterprise Owners Mindset at Every Age. \nEvent Details\nWhen\nThursday\, May 13\, 202112:30 PM - 1:30 PM EDT () \nWho Can Attend\nOur entire FEC Family community is invited to attend. \nFEAs who attend this session will earn 1 continuing education credit toward their annual FEA designation requirement. \nWhere\nOnline via Zoom \nFrom the comfort of your home! \nContact\nChris Dohnal \ncdohnal@fexcanada.ca  \n   Register now\nPresenters\n \nWendy Sage-Hayward MA\, FEASenior Consultant at the Family Business Consulting Group\nWendy has over 25 years of experience working with business leaders\, family firms\, and boards. An educator\, author\, adjudicator\, and family business member/director\, she brings deep knowledge\, perspective\, and passion to serving diverse\, global clients across sectors. Wendy is especially skilled at facilitating meaningful conversations with multi-generational families on firm continuity\, leadership\, next generation preparation\, governance\, and conflict resolution. In every instance\, she develops compelling frameworks\, sharp insights\, and practical solutions to ensure her clients achieve their goals while maintaining family harmony. \n \nGaia Marchisio\, PhDExecutive Director of the Cox Family Enterprise Centre at Kennesaw State University and the Aronoff Professor of Family Business\nAs a tenured Associate Professor\, Gaia developed several curricula for family business classes and teaches undergraduate and MBA courses on family business\, management and behavioural sciences\, and consulting services. She has been a visiting faculty member in numerous Family Business Centers in Latin America\, Asia\, Europe and New Zealand.
URL:https://events.familyenterprise.ca/event/webinar-own-it-how-to-develop-family-enterprise-owners-mindset-at-every-age/
CATEGORIES:All members
END:VEVENT
END:VCALENDAR